BEGIN:VCALENDAR
VERSION:2.0
PRODID:-//WhenKickoff//Match Reminder//EN
BEGIN:VEVENT
UID:wk-544491-15@whenkickoff.com
DTSTAMP:20260419T222433Z
DTSTART:20260322T173000Z
DTEND:20260322T193000Z
SUMMARY:Athletic Club vs Real Betis Balompié
DESCRIPTION:WhenKickoff reminder for Athletic Club vs Real Betis Balompié
URL:https://whenkickoff.com/en/match/athletic-club-vs-real-betis-balompi-544491/
BEGIN:VALARM
TRIGGER:-PT15M
ACTION:DISPLAY
DESCRIPTION:Match starts soon
END:VALARM
END:VEVENT
END:VCALENDAR
