BEGIN:VCALENDAR
VERSION:2.0
PRODID:-//WhenKickoff//Match Reminder//EN
BEGIN:VEVENT
UID:wk-544488-15@whenkickoff.com
DTSTAMP:20260419T192316Z
DTSTART:20260315T130000Z
DTEND:20260315T150000Z
SUMMARY:RCD Mallorca vs RCD Espanyol de Barcelona
DESCRIPTION:WhenKickoff reminder for RCD Mallorca vs RCD Espanyol de Barcelona
URL:https://whenkickoff.com/en/match/rcd-mallorca-vs-rcd-espanyol-de-barcelona-544488/
BEGIN:VALARM
TRIGGER:-PT15M
ACTION:DISPLAY
DESCRIPTION:Match starts soon
END:VALARM
END:VEVENT
END:VCALENDAR
