BEGIN:VCALENDAR
VERSION:2.0
PRODID:-//WhenKickoff//Match Reminder//EN
BEGIN:VEVENT
UID:wk-544478-15@whenkickoff.com
DTSTAMP:20260420T001808Z
DTSTART:20260307T151500Z
DTEND:20260307T171500Z
SUMMARY:Levante UD vs Girona FC
DESCRIPTION:WhenKickoff reminder for Levante UD vs Girona FC
URL:https://whenkickoff.com/en/match/levante-ud-vs-girona-fc-544478/
BEGIN:VALARM
TRIGGER:-PT15M
ACTION:DISPLAY
DESCRIPTION:Match starts soon
END:VALARM
END:VEVENT
END:VCALENDAR
