BEGIN:VCALENDAR
VERSION:2.0
PRODID:-//WhenKickoff//Match Reminder//EN
BEGIN:VEVENT
UID:wk-544476-15@whenkickoff.com
DTSTAMP:20260420T001808Z
DTSTART:20260308T151500Z
DTEND:20260308T171500Z
SUMMARY:Getafe CF vs Real Betis Balompié
DESCRIPTION:WhenKickoff reminder for Getafe CF vs Real Betis Balompié
URL:https://whenkickoff.com/en/match/getafe-cf-vs-real-betis-balompi-544476/
BEGIN:VALARM
TRIGGER:-PT15M
ACTION:DISPLAY
DESCRIPTION:Match starts soon
END:VALARM
END:VEVENT
END:VCALENDAR
