BEGIN:VCALENDAR
VERSION:2.0
PRODID:-//WhenKickoff//Match Reminder//EN
BEGIN:VEVENT
UID:wk-544475-15@whenkickoff.com
DTSTAMP:20260420T015146Z
DTSTART:20260308T200000Z
DTEND:20260308T220000Z
SUMMARY:Valencia CF vs Deportivo Alavés
DESCRIPTION:WhenKickoff reminder for Valencia CF vs Deportivo Alavés
URL:https://whenkickoff.com/en/match/valencia-cf-vs-deportivo-alav-s-544475/
BEGIN:VALARM
TRIGGER:-PT15M
ACTION:DISPLAY
DESCRIPTION:Match starts soon
END:VALARM
END:VEVENT
END:VCALENDAR
