BEGIN:VCALENDAR
VERSION:2.0
PRODID:-//WhenKickoff//Match Reminder//EN
BEGIN:VEVENT
UID:wk-544474-15@whenkickoff.com
DTSTAMP:20260420T030257Z
DTSTART:20260309T200000Z
DTEND:20260309T220000Z
SUMMARY:RCD Espanyol de Barcelona vs Real Oviedo
DESCRIPTION:WhenKickoff reminder for RCD Espanyol de Barcelona vs Real Oviedo
URL:https://whenkickoff.com/en/match/rcd-espanyol-de-barcelona-vs-real-oviedo-544474/
BEGIN:VALARM
TRIGGER:-PT15M
ACTION:DISPLAY
DESCRIPTION:Match starts soon
END:VALARM
END:VEVENT
END:VCALENDAR
