BEGIN:VCALENDAR
VERSION:2.0
PRODID:-//WhenKickoff//Match Reminder//EN
BEGIN:VEVENT
UID:wk-544472-15@whenkickoff.com
DTSTAMP:20260420T001809Z
DTSTART:20260307T173000Z
DTEND:20260307T193000Z
SUMMARY:Club Atlético de Madrid vs Real Sociedad de Fútbol
DESCRIPTION:WhenKickoff reminder for Club Atlético de Madrid vs Real Sociedad de Fútbol
URL:https://whenkickoff.com/en/match/club-atl-tico-de-madrid-vs-real-sociedad-de-f-tbol-544472/
BEGIN:VALARM
TRIGGER:-PT15M
ACTION:DISPLAY
DESCRIPTION:Match starts soon
END:VALARM
END:VEVENT
END:VCALENDAR
