BEGIN:VCALENDAR
VERSION:2.0
PRODID:-//WhenKickoff//Match Reminder//EN
BEGIN:VEVENT
UID:wk-544468-15@whenkickoff.com
DTSTAMP:20260419T222457Z
DTSTART:20260301T200000Z
DTEND:20260301T220000Z
SUMMARY:Girona FC vs RC Celta de Vigo
DESCRIPTION:WhenKickoff reminder for Girona FC vs RC Celta de Vigo
URL:https://whenkickoff.com/en/match/girona-fc-vs-rc-celta-de-vigo-544468/
BEGIN:VALARM
TRIGGER:-PT15M
ACTION:DISPLAY
DESCRIPTION:Match starts soon
END:VALARM
END:VEVENT
END:VCALENDAR
