BEGIN:VCALENDAR
VERSION:2.0
PRODID:-//WhenKickoff//Match Reminder//EN
BEGIN:VEVENT
UID:wk-544466-15@whenkickoff.com
DTSTAMP:20260419T183836Z
DTSTART:20260228T130000Z
DTEND:20260228T150000Z
SUMMARY:Rayo Vallecano de Madrid vs Athletic Club
DESCRIPTION:WhenKickoff reminder for Rayo Vallecano de Madrid vs Athletic Club
URL:https://whenkickoff.com/en/match/rayo-vallecano-de-madrid-vs-athletic-club-544466/
BEGIN:VALARM
TRIGGER:-PT15M
ACTION:DISPLAY
DESCRIPTION:Match starts soon
END:VALARM
END:VEVENT
END:VCALENDAR
