BEGIN:VCALENDAR
VERSION:2.0
PRODID:-//WhenKickoff//Match Reminder//EN
BEGIN:VEVENT
UID:wk-544465-15@whenkickoff.com
DTSTAMP:20260419T222431Z
DTSTART:20260227T200000Z
DTEND:20260227T220000Z
SUMMARY:Levante UD vs Deportivo Alavés
DESCRIPTION:WhenKickoff reminder for Levante UD vs Deportivo Alavés
URL:https://whenkickoff.com/en/match/levante-ud-vs-deportivo-alav-s-544465/
BEGIN:VALARM
TRIGGER:-PT15M
ACTION:DISPLAY
DESCRIPTION:Match starts soon
END:VALARM
END:VEVENT
END:VCALENDAR
