BEGIN:VCALENDAR
VERSION:2.0
PRODID:-//WhenKickoff//Match Reminder//EN
BEGIN:VEVENT
UID:wk-544460-15@whenkickoff.com
DTSTAMP:20260420T011701Z
DTSTART:20260221T130000Z
DTEND:20260221T150000Z
SUMMARY:Real Sociedad de Fútbol vs Real Oviedo
DESCRIPTION:WhenKickoff reminder for Real Sociedad de Fútbol vs Real Oviedo
URL:https://whenkickoff.com/en/match/real-sociedad-de-f-tbol-vs-real-oviedo-544460/
BEGIN:VALARM
TRIGGER:-PT15M
ACTION:DISPLAY
DESCRIPTION:Match starts soon
END:VALARM
END:VEVENT
END:VCALENDAR
