BEGIN:VCALENDAR
VERSION:2.0
PRODID:-//WhenKickoff//Match Reminder//EN
BEGIN:VEVENT
UID:wk-544459-15@whenkickoff.com
DTSTAMP:20260420T045851Z
DTSTART:20260222T200000Z
DTEND:20260222T220000Z
SUMMARY:Villarreal CF vs Valencia CF
DESCRIPTION:WhenKickoff reminder for Villarreal CF vs Valencia CF
URL:https://whenkickoff.com/en/match/villarreal-cf-vs-valencia-cf-544459/
BEGIN:VALARM
TRIGGER:-PT15M
ACTION:DISPLAY
DESCRIPTION:Match starts soon
END:VALARM
END:VEVENT
END:VCALENDAR
