BEGIN:VCALENDAR
VERSION:2.0
PRODID:-//WhenKickoff//Match Reminder//EN
BEGIN:VEVENT
UID:wk-544458-15@whenkickoff.com
DTSTAMP:20260420T045851Z
DTSTART:20260221T173000Z
DTEND:20260221T193000Z
SUMMARY:CA Osasuna vs Real Madrid CF
DESCRIPTION:WhenKickoff reminder for CA Osasuna vs Real Madrid CF
URL:https://whenkickoff.com/en/match/ca-osasuna-vs-real-madrid-cf-544458/
BEGIN:VALARM
TRIGGER:-PT15M
ACTION:DISPLAY
DESCRIPTION:Match starts soon
END:VALARM
END:VEVENT
END:VCALENDAR
