BEGIN:VCALENDAR
VERSION:2.0
PRODID:-//WhenKickoff//Match Reminder//EN
BEGIN:VEVENT
UID:wk-544457-15@whenkickoff.com
DTSTAMP:20260420T052002Z
DTSTART:20260222T130000Z
DTEND:20260222T150000Z
SUMMARY:Getafe CF vs Sevilla FC
DESCRIPTION:WhenKickoff reminder for Getafe CF vs Sevilla FC
URL:https://whenkickoff.com/en/match/getafe-cf-vs-sevilla-fc-544457/
BEGIN:VALARM
TRIGGER:-PT15M
ACTION:DISPLAY
DESCRIPTION:Match starts soon
END:VALARM
END:VEVENT
END:VCALENDAR
