BEGIN:VCALENDAR
VERSION:2.0
PRODID:-//WhenKickoff//Match Reminder//EN
BEGIN:VEVENT
UID:wk-544456-15@whenkickoff.com
DTSTAMP:20260420T043207Z
DTSTART:20260222T173000Z
DTEND:20260222T193000Z
SUMMARY:RC Celta de Vigo vs RCD Mallorca
DESCRIPTION:WhenKickoff reminder for RC Celta de Vigo vs RCD Mallorca
URL:https://whenkickoff.com/en/match/rc-celta-de-vigo-vs-rcd-mallorca-544456/
BEGIN:VALARM
TRIGGER:-PT15M
ACTION:DISPLAY
DESCRIPTION:Match starts soon
END:VALARM
END:VEVENT
END:VCALENDAR
