BEGIN:VCALENDAR
VERSION:2.0
PRODID:-//WhenKickoff//Match Reminder//EN
BEGIN:VEVENT
UID:wk-544455-15@whenkickoff.com
DTSTAMP:20260420T005704Z
DTSTART:20260221T151500Z
DTEND:20260221T171500Z
SUMMARY:Real Betis Balompié vs Rayo Vallecano de Madrid
DESCRIPTION:WhenKickoff reminder for Real Betis Balompié vs Rayo Vallecano de Madrid
URL:https://whenkickoff.com/en/match/real-betis-balompi-vs-rayo-vallecano-de-madrid-544455/
BEGIN:VALARM
TRIGGER:-PT15M
ACTION:DISPLAY
DESCRIPTION:Match starts soon
END:VALARM
END:VEVENT
END:VCALENDAR
