BEGIN:VCALENDAR
VERSION:2.0
PRODID:-//WhenKickoff//Match Reminder//EN
BEGIN:VEVENT
UID:wk-544454-15@whenkickoff.com
DTSTAMP:20260420T005801Z
DTSTART:20260222T151500Z
DTEND:20260222T171500Z
SUMMARY:FC Barcelona vs Levante UD
DESCRIPTION:WhenKickoff reminder for FC Barcelona vs Levante UD
URL:https://whenkickoff.com/en/match/fc-barcelona-vs-levante-ud-544454/
BEGIN:VALARM
TRIGGER:-PT15M
ACTION:DISPLAY
DESCRIPTION:Match starts soon
END:VALARM
END:VEVENT
END:VCALENDAR
