BEGIN:VCALENDAR
VERSION:2.0
PRODID:-//WhenKickoff//Match Reminder//EN
BEGIN:VEVENT
UID:wk-544452-15@whenkickoff.com
DTSTAMP:20260420T005801Z
DTSTART:20260220T200000Z
DTEND:20260220T220000Z
SUMMARY:Athletic Club vs Elche CF
DESCRIPTION:WhenKickoff reminder for Athletic Club vs Elche CF
URL:https://whenkickoff.com/en/match/athletic-club-vs-elche-cf-544452/
BEGIN:VALARM
TRIGGER:-PT15M
ACTION:DISPLAY
DESCRIPTION:Match starts soon
END:VALARM
END:VEVENT
END:VCALENDAR
