BEGIN:VCALENDAR
VERSION:2.0
PRODID:-//WhenKickoff//Match Reminder//EN
BEGIN:VEVENT
UID:wk-544451-15@whenkickoff.com
DTSTAMP:20260419T211242Z
DTSTART:20260223T200000Z
DTEND:20260223T220000Z
SUMMARY:Deportivo Alavés vs Girona FC
DESCRIPTION:WhenKickoff reminder for Deportivo Alavés vs Girona FC
URL:https://whenkickoff.com/en/match/deportivo-alav-s-vs-girona-fc-544451/
BEGIN:VALARM
TRIGGER:-PT15M
ACTION:DISPLAY
DESCRIPTION:Match starts soon
END:VALARM
END:VEVENT
END:VCALENDAR
