BEGIN:VCALENDAR
VERSION:2.0
PRODID:-//WhenKickoff//Match Reminder//EN
BEGIN:VEVENT
UID:wk-544450-15@whenkickoff.com
DTSTAMP:20260420T064000Z
DTSTART:20260214T130000Z
DTEND:20260214T150000Z
SUMMARY:RCD Espanyol de Barcelona vs RC Celta de Vigo
DESCRIPTION:WhenKickoff reminder for RCD Espanyol de Barcelona vs RC Celta de Vigo
URL:https://whenkickoff.com/en/match/rcd-espanyol-de-barcelona-vs-rc-celta-de-vigo-544450/
BEGIN:VALARM
TRIGGER:-PT15M
ACTION:DISPLAY
DESCRIPTION:Match starts soon
END:VALARM
END:VEVENT
END:VCALENDAR
