BEGIN:VCALENDAR
VERSION:2.0
PRODID:-//WhenKickoff//Match Reminder//EN
BEGIN:VEVENT
UID:wk-544449-15@whenkickoff.com
DTSTAMP:20260420T050015Z
DTSTART:20260215T200000Z
DTEND:20260215T220000Z
SUMMARY:RCD Mallorca vs Real Betis Balompié
DESCRIPTION:WhenKickoff reminder for RCD Mallorca vs Real Betis Balompié
URL:https://whenkickoff.com/en/match/rcd-mallorca-vs-real-betis-balompi-544449/
BEGIN:VALARM
TRIGGER:-PT15M
ACTION:DISPLAY
DESCRIPTION:Match starts soon
END:VALARM
END:VEVENT
END:VCALENDAR
