BEGIN:VCALENDAR
VERSION:2.0
PRODID:-//WhenKickoff//Match Reminder//EN
BEGIN:VEVENT
UID:wk-544448-15@whenkickoff.com
DTSTAMP:20260420T035302Z
DTSTART:20260216T200000Z
DTEND:20260216T220000Z
SUMMARY:Girona FC vs FC Barcelona
DESCRIPTION:WhenKickoff reminder for Girona FC vs FC Barcelona
URL:https://whenkickoff.com/en/match/girona-fc-vs-fc-barcelona-544448/
BEGIN:VALARM
TRIGGER:-PT15M
ACTION:DISPLAY
DESCRIPTION:Match starts soon
END:VALARM
END:VEVENT
END:VCALENDAR
