BEGIN:VCALENDAR
VERSION:2.0
PRODID:-//WhenKickoff//Match Reminder//EN
BEGIN:VEVENT
UID:wk-544447-15@whenkickoff.com
DTSTAMP:20260420T035302Z
DTSTART:20260215T151500Z
DTEND:20260215T171500Z
SUMMARY:Rayo Vallecano de Madrid vs Club Atlético de Madrid
DESCRIPTION:WhenKickoff reminder for Rayo Vallecano de Madrid vs Club Atlético de Madrid
URL:https://whenkickoff.com/en/match/rayo-vallecano-de-madrid-vs-club-atl-tico-de-madrid-544447/
BEGIN:VALARM
TRIGGER:-PT15M
ACTION:DISPLAY
DESCRIPTION:Match starts soon
END:VALARM
END:VEVENT
END:VCALENDAR
