BEGIN:VCALENDAR
VERSION:2.0
PRODID:-//WhenKickoff//Match Reminder//EN
BEGIN:VEVENT
UID:wk-544446-15@whenkickoff.com
DTSTAMP:20260420T033821Z
DTSTART:20260215T130000Z
DTEND:20260215T150000Z
SUMMARY:Real Oviedo vs Athletic Club
DESCRIPTION:WhenKickoff reminder for Real Oviedo vs Athletic Club
URL:https://whenkickoff.com/en/match/real-oviedo-vs-athletic-club-544446/
BEGIN:VALARM
TRIGGER:-PT15M
ACTION:DISPLAY
DESCRIPTION:Match starts soon
END:VALARM
END:VEVENT
END:VCALENDAR
