BEGIN:VCALENDAR
VERSION:2.0
PRODID:-//WhenKickoff//Match Reminder//EN
BEGIN:VEVENT
UID:wk-544445-15@whenkickoff.com
DTSTAMP:20260420T065339Z
DTSTART:20260214T173000Z
DTEND:20260214T193000Z
SUMMARY:Sevilla FC vs Deportivo Alavés
DESCRIPTION:WhenKickoff reminder for Sevilla FC vs Deportivo Alavés
URL:https://whenkickoff.com/en/match/sevilla-fc-vs-deportivo-alav-s-544445/
BEGIN:VALARM
TRIGGER:-PT15M
ACTION:DISPLAY
DESCRIPTION:Match starts soon
END:VALARM
END:VEVENT
END:VCALENDAR
