BEGIN:VCALENDAR
VERSION:2.0
PRODID:-//WhenKickoff//Match Reminder//EN
BEGIN:VEVENT
UID:wk-544444-15@whenkickoff.com
DTSTAMP:20260420T065406Z
DTSTART:20260214T200000Z
DTEND:20260214T220000Z
SUMMARY:Real Madrid CF vs Real Sociedad de Fútbol
DESCRIPTION:WhenKickoff reminder for Real Madrid CF vs Real Sociedad de Fútbol
URL:https://whenkickoff.com/en/match/real-madrid-cf-vs-real-sociedad-de-f-tbol-544444/
BEGIN:VALARM
TRIGGER:-PT15M
ACTION:DISPLAY
DESCRIPTION:Match starts soon
END:VALARM
END:VEVENT
END:VCALENDAR
