BEGIN:VCALENDAR
VERSION:2.0
PRODID:-//WhenKickoff//Match Reminder//EN
BEGIN:VEVENT
UID:wk-544443-15@whenkickoff.com
DTSTAMP:20260420T033822Z
DTSTART:20260215T173000Z
DTEND:20260215T193000Z
SUMMARY:Levante UD vs Valencia CF
DESCRIPTION:WhenKickoff reminder for Levante UD vs Valencia CF
URL:https://whenkickoff.com/en/match/levante-ud-vs-valencia-cf-544443/
BEGIN:VALARM
TRIGGER:-PT15M
ACTION:DISPLAY
DESCRIPTION:Match starts soon
END:VALARM
END:VEVENT
END:VCALENDAR
