BEGIN:VCALENDAR
VERSION:2.0
PRODID:-//WhenKickoff//Match Reminder//EN
BEGIN:VEVENT
UID:wk-544442-15@whenkickoff.com
DTSTAMP:20260420T053327Z
DTSTART:20260214T151500Z
DTEND:20260214T171500Z
SUMMARY:Getafe CF vs Villarreal CF
DESCRIPTION:WhenKickoff reminder for Getafe CF vs Villarreal CF
URL:https://whenkickoff.com/en/match/getafe-cf-vs-villarreal-cf-544442/
BEGIN:VALARM
TRIGGER:-PT15M
ACTION:DISPLAY
DESCRIPTION:Match starts soon
END:VALARM
END:VEVENT
END:VCALENDAR
