BEGIN:VCALENDAR
VERSION:2.0
PRODID:-//WhenKickoff//Match Reminder//EN
BEGIN:VEVENT
UID:wk-544441-15@whenkickoff.com
DTSTAMP:20260420T053328Z
DTSTART:20260213T200000Z
DTEND:20260213T220000Z
SUMMARY:Elche CF vs CA Osasuna
DESCRIPTION:WhenKickoff reminder for Elche CF vs CA Osasuna
URL:https://whenkickoff.com/en/match/elche-cf-vs-ca-osasuna-544441/
BEGIN:VALARM
TRIGGER:-PT15M
ACTION:DISPLAY
DESCRIPTION:Match starts soon
END:VALARM
END:VEVENT
END:VCALENDAR
