BEGIN:VCALENDAR
VERSION:2.0
PRODID:-//WhenKickoff//Match Reminder//EN
BEGIN:VEVENT
UID:wk-544440-15@whenkickoff.com
DTSTAMP:20260419T135919Z
DTSTART:20260304T180000Z
DTEND:20260304T200000Z
SUMMARY:Rayo Vallecano de Madrid vs Real Oviedo
DESCRIPTION:WhenKickoff reminder for Rayo Vallecano de Madrid vs Real Oviedo
URL:https://whenkickoff.com/en/match/rayo-vallecano-de-madrid-vs-real-oviedo-544440/
BEGIN:VALARM
TRIGGER:-PT15M
ACTION:DISPLAY
DESCRIPTION:Match starts soon
END:VALARM
END:VEVENT
END:VCALENDAR
