BEGIN:VCALENDAR
VERSION:2.0
PRODID:-//WhenKickoff//Match Reminder//EN
BEGIN:VEVENT
UID:wk-544439-15@whenkickoff.com
DTSTAMP:20260420T121924Z
DTSTART:20260208T200000Z
DTEND:20260208T220000Z
SUMMARY:Valencia CF vs Real Madrid CF
DESCRIPTION:WhenKickoff reminder for Valencia CF vs Real Madrid CF
URL:https://whenkickoff.com/en/match/valencia-cf-vs-real-madrid-cf-544439/
BEGIN:VALARM
TRIGGER:-PT15M
ACTION:DISPLAY
DESCRIPTION:Match starts soon
END:VALARM
END:VEVENT
END:VCALENDAR
