BEGIN:VCALENDAR
VERSION:2.0
PRODID:-//WhenKickoff//Match Reminder//EN
BEGIN:VEVENT
UID:wk-544438-15@whenkickoff.com
DTSTAMP:20260420T120336Z
DTSTART:20260208T151500Z
DTEND:20260208T171500Z
SUMMARY:Sevilla FC vs Girona FC
DESCRIPTION:WhenKickoff reminder for Sevilla FC vs Girona FC
URL:https://whenkickoff.com/en/match/sevilla-fc-vs-girona-fc-544438/
BEGIN:VALARM
TRIGGER:-PT15M
ACTION:DISPLAY
DESCRIPTION:Match starts soon
END:VALARM
END:VEVENT
END:VCALENDAR
