BEGIN:VCALENDAR
VERSION:2.0
PRODID:-//WhenKickoff//Match Reminder//EN
BEGIN:VEVENT
UID:wk-544436-15@whenkickoff.com
DTSTAMP:20260420T121855Z
DTSTART:20260207T200000Z
DTEND:20260207T220000Z
SUMMARY:Real Sociedad de Fútbol vs Elche CF
DESCRIPTION:WhenKickoff reminder for Real Sociedad de Fútbol vs Elche CF
URL:https://whenkickoff.com/en/match/real-sociedad-de-f-tbol-vs-elche-cf-544436/
BEGIN:VALARM
TRIGGER:-PT15M
ACTION:DISPLAY
DESCRIPTION:Match starts soon
END:VALARM
END:VEVENT
END:VCALENDAR
