BEGIN:VCALENDAR
VERSION:2.0
PRODID:-//WhenKickoff//Match Reminder//EN
BEGIN:VEVENT
UID:wk-544433-15@whenkickoff.com
DTSTAMP:20260420T120338Z
DTSTART:20260208T173000Z
DTEND:20260208T193000Z
SUMMARY:Club Atlético de Madrid vs Real Betis Balompié
DESCRIPTION:WhenKickoff reminder for Club Atlético de Madrid vs Real Betis Balompié
URL:https://whenkickoff.com/en/match/club-atl-tico-de-madrid-vs-real-betis-balompi-544433/
BEGIN:VALARM
TRIGGER:-PT15M
ACTION:DISPLAY
DESCRIPTION:Match starts soon
END:VALARM
END:VEVENT
END:VCALENDAR
