BEGIN:VCALENDAR
VERSION:2.0
PRODID:-//WhenKickoff//Match Reminder//EN
BEGIN:VEVENT
UID:wk-544432-15@whenkickoff.com
DTSTAMP:20260420T124625Z
DTSTART:20260208T151500Z
DTEND:20260208T171500Z
SUMMARY:Athletic Club vs Levante UD
DESCRIPTION:WhenKickoff reminder for Athletic Club vs Levante UD
URL:https://whenkickoff.com/en/match/athletic-club-vs-levante-ud-544432/
BEGIN:VALARM
TRIGGER:-PT15M
ACTION:DISPLAY
DESCRIPTION:Match starts soon
END:VALARM
END:VEVENT
END:VCALENDAR
