BEGIN:VCALENDAR
VERSION:2.0
PRODID:-//WhenKickoff//Match Reminder//EN
BEGIN:VEVENT
UID:wk-544430-15@whenkickoff.com
DTSTAMP:20260420T190655Z
DTSTART:20260201T130000Z
DTEND:20260201T150000Z
SUMMARY:Real Madrid CF vs Rayo Vallecano de Madrid
DESCRIPTION:WhenKickoff reminder for Real Madrid CF vs Rayo Vallecano de Madrid
URL:https://whenkickoff.com/en/match/real-madrid-cf-vs-rayo-vallecano-de-madrid-544430/
BEGIN:VALARM
TRIGGER:-PT15M
ACTION:DISPLAY
DESCRIPTION:Match starts soon
END:VALARM
END:VEVENT
END:VCALENDAR
