BEGIN:VCALENDAR
VERSION:2.0
PRODID:-//WhenKickoff//Match Reminder//EN
BEGIN:VEVENT
UID:wk-544429-15@whenkickoff.com
DTSTAMP:20260420T194539Z
DTSTART:20260131T130000Z
DTEND:20260131T150000Z
SUMMARY:Real Oviedo vs Girona FC
DESCRIPTION:WhenKickoff reminder for Real Oviedo vs Girona FC
URL:https://whenkickoff.com/en/match/real-oviedo-vs-girona-fc-544429/
BEGIN:VALARM
TRIGGER:-PT15M
ACTION:DISPLAY
DESCRIPTION:Match starts soon
END:VALARM
END:VEVENT
END:VCALENDAR
