BEGIN:VCALENDAR
VERSION:2.0
PRODID:-//WhenKickoff//Match Reminder//EN
BEGIN:VEVENT
UID:wk-544428-15@whenkickoff.com
DTSTAMP:20260420T204957Z
DTSTART:20260201T173000Z
DTEND:20260201T193000Z
SUMMARY:Getafe CF vs RC Celta de Vigo
DESCRIPTION:WhenKickoff reminder for Getafe CF vs RC Celta de Vigo
URL:https://whenkickoff.com/en/match/getafe-cf-vs-rc-celta-de-vigo-544428/
BEGIN:VALARM
TRIGGER:-PT15M
ACTION:DISPLAY
DESCRIPTION:Match starts soon
END:VALARM
END:VEVENT
END:VCALENDAR
