BEGIN:VCALENDAR
VERSION:2.0
PRODID:-//WhenKickoff//Match Reminder//EN
BEGIN:VEVENT
UID:wk-544427-15@whenkickoff.com
DTSTAMP:20260420T205002Z
DTSTART:20260131T200000Z
DTEND:20260131T220000Z
SUMMARY:Elche CF vs FC Barcelona
DESCRIPTION:WhenKickoff reminder for Elche CF vs FC Barcelona
URL:https://whenkickoff.com/en/match/elche-cf-vs-fc-barcelona-544427/
BEGIN:VALARM
TRIGGER:-PT15M
ACTION:DISPLAY
DESCRIPTION:Match starts soon
END:VALARM
END:VEVENT
END:VCALENDAR
