BEGIN:VCALENDAR
VERSION:2.0
PRODID:-//WhenKickoff//Match Reminder//EN
BEGIN:VEVENT
UID:wk-544426-15@whenkickoff.com
DTSTAMP:20260420T194539Z
DTSTART:20260131T173000Z
DTEND:20260131T193000Z
SUMMARY:Levante UD vs Club Atlético de Madrid
DESCRIPTION:WhenKickoff reminder for Levante UD vs Club Atlético de Madrid
URL:https://whenkickoff.com/en/match/levante-ud-vs-club-atl-tico-de-madrid-544426/
BEGIN:VALARM
TRIGGER:-PT15M
ACTION:DISPLAY
DESCRIPTION:Match starts soon
END:VALARM
END:VEVENT
END:VCALENDAR
