BEGIN:VCALENDAR
VERSION:2.0
PRODID:-//WhenKickoff//Match Reminder//EN
BEGIN:VEVENT
UID:wk-544424-15@whenkickoff.com
DTSTAMP:20260420T205003Z
DTSTART:20260131T151500Z
DTEND:20260131T171500Z
SUMMARY:CA Osasuna vs Villarreal CF
DESCRIPTION:WhenKickoff reminder for CA Osasuna vs Villarreal CF
URL:https://whenkickoff.com/en/match/ca-osasuna-vs-villarreal-cf-544424/
BEGIN:VALARM
TRIGGER:-PT15M
ACTION:DISPLAY
DESCRIPTION:Match starts soon
END:VALARM
END:VEVENT
END:VCALENDAR
