BEGIN:VCALENDAR
VERSION:2.0
PRODID:-//WhenKickoff//Match Reminder//EN
BEGIN:VEVENT
UID:wk-544423-15@whenkickoff.com
DTSTAMP:20260420T185317Z
DTSTART:20260202T200000Z
DTEND:20260202T220000Z
SUMMARY:RCD Mallorca vs Sevilla FC
DESCRIPTION:WhenKickoff reminder for RCD Mallorca vs Sevilla FC
URL:https://whenkickoff.com/en/match/rcd-mallorca-vs-sevilla-fc-544423/
BEGIN:VALARM
TRIGGER:-PT15M
ACTION:DISPLAY
DESCRIPTION:Match starts soon
END:VALARM
END:VEVENT
END:VCALENDAR
