BEGIN:VCALENDAR
VERSION:2.0
PRODID:-//WhenKickoff//Match Reminder//EN
BEGIN:VEVENT
UID:wk-544422-15@whenkickoff.com
DTSTAMP:20260420T204957Z
DTSTART:20260201T151500Z
DTEND:20260201T171500Z
SUMMARY:Real Betis Balompié vs Valencia CF
DESCRIPTION:WhenKickoff reminder for Real Betis Balompié vs Valencia CF
URL:https://whenkickoff.com/en/match/real-betis-balompi-vs-valencia-cf-544422/
BEGIN:VALARM
TRIGGER:-PT15M
ACTION:DISPLAY
DESCRIPTION:Match starts soon
END:VALARM
END:VEVENT
END:VCALENDAR
