BEGIN:VCALENDAR
VERSION:2.0
PRODID:-//WhenKickoff//Match Reminder//EN
BEGIN:VEVENT
UID:wk-544421-15@whenkickoff.com
DTSTAMP:20260420T194538Z
DTSTART:20260201T200000Z
DTEND:20260201T220000Z
SUMMARY:Athletic Club vs Real Sociedad de Fútbol
DESCRIPTION:WhenKickoff reminder for Athletic Club vs Real Sociedad de Fútbol
URL:https://whenkickoff.com/en/match/athletic-club-vs-real-sociedad-de-f-tbol-544421/
BEGIN:VALARM
TRIGGER:-PT15M
ACTION:DISPLAY
DESCRIPTION:Match starts soon
END:VALARM
END:VEVENT
END:VCALENDAR
