BEGIN:VCALENDAR
VERSION:2.0
PRODID:-//WhenKickoff//Match Reminder//EN
BEGIN:VEVENT
UID:wk-544420-15@whenkickoff.com
DTSTAMP:20260420T151550Z
DTSTART:20260124T200000Z
DTEND:20260124T220000Z
SUMMARY:Villarreal CF vs Real Madrid CF
DESCRIPTION:WhenKickoff reminder for Villarreal CF vs Real Madrid CF
URL:https://whenkickoff.com/en/match/villarreal-cf-vs-real-madrid-cf-544420/
BEGIN:VALARM
TRIGGER:-PT15M
ACTION:DISPLAY
DESCRIPTION:Match starts soon
END:VALARM
END:VEVENT
END:VCALENDAR
