BEGIN:VCALENDAR
VERSION:2.0
PRODID:-//WhenKickoff//Match Reminder//EN
BEGIN:VEVENT
UID:wk-544419-15@whenkickoff.com
DTSTAMP:20260420T151551Z
DTSTART:20260124T130000Z
DTEND:20260124T150000Z
SUMMARY:Rayo Vallecano de Madrid vs CA Osasuna
DESCRIPTION:WhenKickoff reminder for Rayo Vallecano de Madrid vs CA Osasuna
URL:https://whenkickoff.com/en/match/rayo-vallecano-de-madrid-vs-ca-osasuna-544419/
BEGIN:VALARM
TRIGGER:-PT15M
ACTION:DISPLAY
DESCRIPTION:Match starts soon
END:VALARM
END:VEVENT
END:VCALENDAR
