BEGIN:VCALENDAR
VERSION:2.0
PRODID:-//WhenKickoff//Match Reminder//EN
BEGIN:VEVENT
UID:wk-544418-15@whenkickoff.com
DTSTAMP:20260420T153025Z
DTSTART:20260126T200000Z
DTEND:20260126T220000Z
SUMMARY:Girona FC vs Getafe CF
DESCRIPTION:WhenKickoff reminder for Girona FC vs Getafe CF
URL:https://whenkickoff.com/en/match/girona-fc-vs-getafe-cf-544418/
BEGIN:VALARM
TRIGGER:-PT15M
ACTION:DISPLAY
DESCRIPTION:Match starts soon
END:VALARM
END:VEVENT
END:VCALENDAR
