BEGIN:VCALENDAR
VERSION:2.0
PRODID:-//WhenKickoff//Match Reminder//EN
BEGIN:VEVENT
UID:wk-544417-15@whenkickoff.com
DTSTAMP:20260420T151550Z
DTSTART:20260124T151500Z
DTEND:20260124T171500Z
SUMMARY:Valencia CF vs RCD Espanyol de Barcelona
DESCRIPTION:WhenKickoff reminder for Valencia CF vs RCD Espanyol de Barcelona
URL:https://whenkickoff.com/en/match/valencia-cf-vs-rcd-espanyol-de-barcelona-544417/
BEGIN:VALARM
TRIGGER:-PT15M
ACTION:DISPLAY
DESCRIPTION:Match starts soon
END:VALARM
END:VEVENT
END:VCALENDAR
