BEGIN:VCALENDAR
VERSION:2.0
PRODID:-//WhenKickoff//Match Reminder//EN
BEGIN:VEVENT
UID:wk-544416-15@whenkickoff.com
DTSTAMP:20260420T151551Z
DTSTART:20260123T200000Z
DTEND:20260123T220000Z
SUMMARY:Levante UD vs Elche CF
DESCRIPTION:WhenKickoff reminder for Levante UD vs Elche CF
URL:https://whenkickoff.com/en/match/levante-ud-vs-elche-cf-544416/
BEGIN:VALARM
TRIGGER:-PT15M
ACTION:DISPLAY
DESCRIPTION:Match starts soon
END:VALARM
END:VEVENT
END:VCALENDAR
