BEGIN:VCALENDAR
VERSION:2.0
PRODID:-//WhenKickoff//Match Reminder//EN
BEGIN:VEVENT
UID:wk-544415-15@whenkickoff.com
DTSTAMP:20260420T153057Z
DTSTART:20260125T173000Z
DTEND:20260125T193000Z
SUMMARY:Real Sociedad de Fútbol vs RC Celta de Vigo
DESCRIPTION:WhenKickoff reminder for Real Sociedad de Fútbol vs RC Celta de Vigo
URL:https://whenkickoff.com/en/match/real-sociedad-de-f-tbol-vs-rc-celta-de-vigo-544415/
BEGIN:VALARM
TRIGGER:-PT15M
ACTION:DISPLAY
DESCRIPTION:Match starts soon
END:VALARM
END:VEVENT
END:VCALENDAR
